BEGIN:VCALENDAR
VERSION:2.0
PRODID:-//wp-events-plugin.com//6.6.4.4//EN
TZID:Europe/Berlin
X-WR-TIMEZONE:Europe/Berlin
BEGIN:VEVENT
UID:15@fahrschule-moellenbeck.de
DTSTART;TZID=Europe/Berlin:20221222T000000
DTEND;TZID=Europe/Berlin:20230105T000000
DTSTAMP:20221015T152256Z
URL:https://fahrschule-moellenbeck.de/events/urlaub/
SUMMARY:URLAUB
DESCRIPTION:Wir sind im Urlaub vom 22.12.2022 bis einschließlich 05.01.202
 3\n\nIn dringenden Fällen\, schreibt uns gerne eine E-Mail
ATTACH;FMTTYPE=image/jpeg:https://fahrschule-moellenbeck.de/wp-content/upl
 oads/2022/09/Urlaub.jpg
LOCATION:Fahrschule Möllenbeck\, Windelsbleicher Straße 244\, Bielefeld\,
  33659\, Deutschland
X-APPLE-STRUCTURED-LOCATION;VALUE=URI;X-ADDRESS=Windelsbleicher Straße 244
 \, Bielefeld\, 33659\, Deutschland;X-APPLE-RADIUS=100;X-TITLE=Fahrschule M
 öllenbeck:geo:0,0
END:VEVENT
BEGIN:VTIMEZONE
TZID:Europe/Berlin
X-LIC-LOCATION:Europe/Berlin
BEGIN:STANDARD
DTSTART:20221030T020000
TZOFFSETFROM:+0200
TZOFFSETTO:+0100
TZNAME:CET
END:STANDARD
END:VTIMEZONE
END:VCALENDAR