BEGIN:VCALENDAR
VERSION:2.0
PRODID:-//wp-events-plugin.com//6.6.4.4//EN
TZID:Europe/Berlin
X-WR-TIMEZONE:Europe/Berlin
BEGIN:VEVENT
UID:209@fahrschule-moellenbeck.de
DTSTART;TZID=Europe/Berlin:20250213T190000
DTEND;TZID=Europe/Berlin:20250213T203000
DTSTAMP:20240908T101203Z
URL:https://fahrschule-moellenbeck.de/events/thema-3-14/
SUMMARY:Thema 3
DESCRIPTION:\n 	Rechtliche Rahmenbedingungen\n\n&nbsp\;
ATTACH;FMTTYPE=image/jpeg:https://fahrschule-moellenbeck.de/wp-content/upl
 oads/2022/08/Lektion_3.jpg
CATEGORIES:Thema 3,Theorieunterricht
LOCATION:Fahrschule Möllenbeck\, Windelsbleicher Straße 244\, Bielefeld\,
  33659\, Deutschland
X-APPLE-STRUCTURED-LOCATION;VALUE=URI;X-ADDRESS=Windelsbleicher Straße 244
 \, Bielefeld\, 33659\, Deutschland;X-APPLE-RADIUS=100;X-TITLE=Fahrschule M
 öllenbeck:geo:0,0
END:VEVENT
BEGIN:VTIMEZONE
TZID:Europe/Berlin
X-LIC-LOCATION:Europe/Berlin
BEGIN:STANDARD
DTSTART:20241027T020000
TZOFFSETFROM:+0200
TZOFFSETTO:+0100
TZNAME:CET
END:STANDARD
END:VTIMEZONE
END:VCALENDAR